BEGIN:VCALENDAR
VERSION:2.0
PRODID:-//wp-events-plugin.com//7.2.3.1//EN
BEGIN:VEVENT
UID:28@sebiot.org
DTSTART;VALUE=DATE:20231017
DTEND;VALUE=DATE:20231020
DTSTAMP:20230602T132931Z
URL:https://sebiot.org/eventos/11th-conference-on-recombinant-protein-prod
 uction/
SUMMARY:11th Conference on Recombinant Protein Production
DESCRIPTION:European Federation of Biotechnology (EFB) conferences on recom
 binant protein production are back again after four long years of interrup
 tion. This conference series is organised under the auspices of the Microb
 ial Biotechnology Division of EFB. They address a topic that is instrument
 al in meeting many societal needs\, including food and feed processing\, b
 iopharmaceuticals and vaccines production\, and biobased production of che
 micals. Consequently\, there is a continuous need for new production platf
 orms that can deliver higher quality protein products in a more sustainabl
 e ‘greener’ way.\n\nThis new edition will take place in Spain\, in the
  Catalan city of Girona\, from 17  to 19 October. Jan Maarten van Dijl an
 d Pau Ferrer will act as co-chairs of the meeting.\n\n&nbsp\;\n\n[button l
 ink="https://www.efbiotechnology.org/rpp" link_target="true" size="large" 
 style="square" full_width="false" bg_color="#019970" hover_bg_color="#cccc
 cc" text_color="#ffffff" border_color="#019970"]Information and registrati
 on[/button]\n\n&nbsp\;
ATTACH;FMTTYPE=image/jpeg:https://sebiot.org/wp-content/uploads/2023/06/EF
 B_RPP11_M2_V2.png
CATEGORIES:Congreso / Congress
END:VEVENT
END:VCALENDAR