BEGIN:VCALENDAR
VERSION:2.0
PRODID:-//wp-events-plugin.com//7.2.3.1//EN
BEGIN:VEVENT
UID:105@sebiot.org
DTSTART;VALUE=DATE:20261104
DTEND;VALUE=DATE:20261107
DTSTAMP:20260330T142234Z
URL:https://sebiot.org/eventos/8th-applied-synthetic-biology-in-europe/
SUMMARY:8th Applied Synthetic Biology in Europe
DESCRIPTION:The Applied Synthetic Biology in Europe (ASBE8 Conference) wi
 ll take place on 4–6 November 2026 at the Whitworth Art Gallery\, Man
 chester\, UK.\n\nFollowing the success of previous meetings in this series
 \, ASBE8 will explore the wealth of applied synthetic biology research and
  how it is contributing to progress towards the UN Sustainable Development
  Goals. The meeting will bring together key partners from academia\, indus
 try and the third sector interested in using synthetic biology\, engineeri
 ng biology and applied microbiology to address global challenges.\n\nSessi
 ons will be framed around four synthetic biology application domains:\n\n 
 	Factory – clean growth\, bio-based chemical/materials production\, alte
 rnative feedstocks C1\, plastics\, biogenic\n 	Pharma – cellular therape
 utics\, siagnostics\, gene/base editing\, biobased production of pharmaceu
 ticals\n 	Farm and field – improve crops\, soil augmentation\, waste tre
 atment\, bioremediation\, biocontainment\n 	Computational design technolog
 ies – proteins\, circuits\, systems\, networks\, communities and process
 es\n\nKeep tuned! More information on main speakers and abstracts sending 
 deadline coming soon.\n[button link="https://synbioeurope.efbiotechnology.
 org/" link_target="true" size="large" style="square" full_width="false" bg
 _color="#019970" hover_bg_color="#cccccc" text_color="#ffffff" hover_text_
 color="#019970" border_color="#019970"]More information and registration[/
 button]\n&nbsp\;
ATTACH;FMTTYPE=image/jpeg:https://sebiot.org/wp-content/uploads/2026/03/AS
 BE8-Banner-e1774880467806.jpg
CATEGORIES:Congreso / Congress
LOCATION:Whitworth Art Gallery\, Oxford Road\, Manchester\, M15 6ER\, Reino
  Unido
X-APPLE-STRUCTURED-LOCATION;VALUE=URI;X-ADDRESS=Oxford Road\, Manchester\, 
 M15 6ER\, Reino Unido;X-APPLE-RADIUS=100;X-TITLE=Whitworth Art Gallery:geo
 :0,0
END:VEVENT
END:VCALENDAR