BEGIN:VCALENDAR
VERSION:2.0
PRODID:-//wp-events-plugin.com//7.2.3.1//EN
BEGIN:VEVENT
UID:69@sebiot.org
DTSTART:20241204T170000Z
DTEND:20241204T183000Z
DTSTAMP:20241122T150845Z
URL:https://sebiot.org/eventos/dialogo-cientifico-la-experimentacion-en-an
 imales/
SUMMARY:Diálogo científico: La experimentación en animales
DESCRIPTION:La Academia Europaea - Barcelona Knowledge Hub organiza el pró
 ximo 4 de diciembre uno de sus diálogos científicos\, esta vez en torno 
 a La experimentación en animales.\n\nEn el diálogo participarán Lluí
 s Montoliu\, investigador del Centro Nacional de Biotecnología (CNB-CSIC)
  y Núria Almirón\, codirectora del Centro de Ética Animal de la Univer
 sitat Pompeu Fabra (UPF)\, moderados por Cristina Junyent\, bióloga\, ed
 itora y comunicadora científica.\n\nLa sesión\, que tendrá formato híb
 rido\, presencial y online es de acceso libre.\n\n&nbsp\;\n\n[button link
 ="https://aebarcelona.eu/en/event/lexperimentacio-en-animals/" link_target
 ="true" size="large" style="square" full_width="false" bg_color="#019970" 
 hover_bg_color="#cccccc" text_color="#ffffff" hover_text_color="#019970" b
 order_color="#019970"]Más información y enlace para asistir 'online'[/bu
 tton]\n\n&nbsp\;
ATTACH;FMTTYPE=image/jpeg:https://sebiot.org/wp-content/uploads/2024/11/Ca
 ptura-de-pantalla-2024-11-22-a-les-17.04.58-e1732291632564.png
CATEGORIES:Conferencia / Talk
LOCATION:Reial Acadèmia de Ciències i Arts de Barcelona\, La Rambla\, 115
 \, Barcelona\, 08002\, España
X-APPLE-STRUCTURED-LOCATION;VALUE=URI;X-ADDRESS=La Rambla\, 115\, Barcelona
 \, 08002\, España;X-APPLE-RADIUS=100;X-TITLE=Reial Acadèmia de Ciències
  i Arts de Barcelona:geo:0,0
END:VEVENT
END:VCALENDAR