BEGIN:VCALENDAR
VERSION:2.0
PRODID:-//wp-events-plugin.com//7.2.3.1//EN
BEGIN:VEVENT
UID:5@sebiot.org
DTSTART;VALUE=DATE:20220407
DTEND;VALUE=DATE:20220410
DTSTAMP:20221127T171357Z
URL:https://sebiot.org/eventos/iii-congreso-bioiberoamerica/
SUMMARY:[:es]III Congreso BioIberoamerica[:en]3rd BioIberoamerica - Iberio-
 American Congress on Biotecnology[:]
DESCRIPTION:[:es]Continuando con el éxito de los congresos BioIberoAmerica
  realizados en Salamanca y Brasilia\, anunciamos la 3ª edición de este c
 ongreso tendrá lugar en Braga - Portugal\, de 7-9 de Abril\, 2022.\nEl Bi
 oIberoAmerica 2022 es un congreso único que reúne a científicos\, empre
 ndedores\, representantes de la industria y de la clínica\, que desarroll
 an su investigación y trabajo en el área de la biotecnología.\nEste eve
 nto de tres días contará com presentaciones orales\, sesiones de posters
 \, debates\, talleres y sesiones paralelas. Las presentaciones prácticas 
 y teóricas se distribuirán equilibradamente durante la conferencia.\nLos
  temas que se tratarán abarcan las diferentes áreas de biomedicina y bio
 materiales\, biotecnología agrícola\, marina\, alimentaria\, ambiental e
  industrial (bioenergía y bioremediación)\, biotecnología molecular\, b
 iología de sistemas e ingeniería metabólica\, biorreactores\, biocatál
 isis\, procesos de separación y biosensores\, biotecnología \, Nanobiote
 cnología\, Bioinformática\, Ética y Sociedad. También se abordarán la
 s aplicaciones de produtos biotecnológicos así como su mercado.[:en]\n\n
 \n\nFollowing the success of the BioIberoAmerica Congresses held in Salama
 nca and Brasília\, we bring the 3rd edition of this meeting to Braga - Po
 rtugal\, between 7-9 of April\, 2022.\n\nWe intend that this edition of Bi
 oIberoAmerica 2022 continues to reinforce the collaboration between resear
 chers and all economic and social agents that develop their activity in Bi
 otechnology in Portugal\, Spain and Latin America.\nBiotechnology is a sec
 tor with continuous growth and has an impact on the development of the sus
 tainable and interdependent world on both sides of the Atlantic. In BioIbe
 roAmerica 2022\, the most recent advances and challenges of Biotechnology 
 and its impact on the various application sectors\, from medicine to indus
 try\, including the sea\, food and the environment\, will be addressed.\nA
 s in 2016 and 2018\, we hope to see and meet the Iberian and Iberoamerican
  world of Biotechnology in Braga\, in 2022.\n\n\n\n[:]
CATEGORIES:Congreso / Congress
LOCATION:Altice Forum Braga\, Av. Dr. Francisco Pires Gonçalves\,  4715-55
 8\, Braga\, Portugal
X-APPLE-STRUCTURED-LOCATION;VALUE=URI;X-ADDRESS=Av. Dr. Francisco Pires Gon
 çalves\,  4715-558\, Braga\, Portugal;X-APPLE-RADIUS=100;X-TITLE=Altice F
 orum Braga:geo:0,0
END:VEVENT
END:VCALENDAR