BEGIN:VCALENDAR
VERSION:2.0
PRODID:-//wp-events-plugin.com//7.2.3.1//EN
BEGIN:VEVENT
UID:108@sebiot.org
DTSTART:20260611T090000Z
DTEND:20260611T110000Z
DTSTAMP:20260416T074812Z
URL:https://sebiot.org/eventos/premios-cosce-a-la-difusion-de-la-ciencia-2
 026/
SUMMARY:Premios COSCE a la Difusión de la Ciencia 2026
DESCRIPTION:La Confederación de Sociedades Científicas de España (COSCE)
  otorgará los Premios COSCE a la Difusión de la Ciencia 2026 en su edici
 ón decimonovena el próximo 11 de junio\, en un acto público en la sede 
 de la Fundación Areces (Madrid).\n\nEn esta edición\, los premios contar
 án con dos categorías:\n\n 	        PREMIO COSCE SENIOR\n\n\n 	   
       PREMIO COSCE JOVEN\n\nLos nombres de los ganadores/as de los Prem
 ios COSCE a la Difusión de la Ciencia se conocerán en la última semana 
 de mayo.
ATTACH;FMTTYPE=image/jpeg:https://sebiot.org/wp-content/uploads/2026/04/pr
 emiosCOSCE2026.png
CATEGORIES:Premio
LOCATION:Fundación Ramon Areces - Salón de Actos\, C/ Vitruvio\, 5\, Madr
 id\, 28006\, España
X-APPLE-STRUCTURED-LOCATION;VALUE=URI;X-ADDRESS=C/ Vitruvio\, 5\, Madrid\, 
 28006\, España;X-APPLE-RADIUS=100;X-TITLE=Fundación Ramon Areces - Saló
 n de Actos:geo:0,0
END:VEVENT
END:VCALENDAR